BEGIN:VCALENDAR
VERSION:2.0
PRODID:-//GR8//auctions//EN
CALSCALE:GREGORIAN
BEGIN:VEVENT
UID:69e88fc91c923
DTSTAMP:20260422T110721
DTSTART:20260423T140000
DTEND:20260423T140000
SUMMARY:GR8 e-aukcia Bratislava
DESCRIPTION:https://www.gr8auctions.eu/sk/bratislava/auction_975/
URL:https://www.gr8auctions.eu/sk/bratislava/auction_975/
BEGIN:VALARM
TRIGGER:-PT10M
ACTION:DISPLAY
DESCRIPTION:Reminder
END:VALARM
END:VEVENT
END:VCALENDAR