BEGIN:VCALENDAR
VERSION:2.0
PRODID:-//GR8//auctions//EN
CALSCALE:GREGORIAN
BEGIN:VEVENT
UID:69eb7dec2c64f
DTSTAMP:20260424T162756
DTSTART:20260429T140000
DTEND:20260429T140000
SUMMARY:GR8 e-soutěž Bratislava
DESCRIPTION:https://www.gr8auctions.eu/cz/bratislava/auction_977/
URL:https://www.gr8auctions.eu/cz/bratislava/auction_977/
BEGIN:VALARM
TRIGGER:-PT10M
ACTION:DISPLAY
DESCRIPTION:Reminder
END:VALARM
END:VEVENT
END:VCALENDAR